BEGIN:VCALENDAR
VERSION:2.0
PRODID:Plogging Challenge Portugal 2026
X-WR-CALNAME:Plogging Challenge Portugal 2026
X-WR-TIMEZONE:Europe/Lisbon
X-PUBLISHED-TTL:P1W
BEGIN:VTIMEZONE
TZID:Europe/Lisbon
X-LIC-LOCATION:Europe/Lisbon
END:VTIMEZONE
BEGIN:VEVENT
UID:69e70d48cbc57
DTSTART;VALUE=DATE:20260411
SEQUENCE:0
TRANSP:OPAQUE
DTEND;VALUE=DATE:20260412
SUMMARY:Plogging Challenge Portugal 2026
CLASS:PUBLIC
DESCRIPTION:Plogging Challenge Portugal 2026 promove ação de limpeza em A
 ldeia Nova no dia 11 de abrilNo próximo dia 11 de abril\, realiza-se mais
  uma edição do Plogging Challenge Portugal 2026\, uma iniciativa que ali
 a atividade física à preservação ambiental e que pretende mobilizar a 
 comunidade para a importância da proteção do litoral.A concentração e
 stá marcada 09h30 no parque de estacionamento de Aldeia Nova / Ondas Sobr
 e o Mar\, de onde partirá a ação de limpeza que abrangerá o parque de 
 estacionamento e a Praia de Aldeia Nova.Sob o lema “Há margem para muda
 r”\, esta iniciativa convida participantes de todas as idades a contribu
 ir ativamente para um ambiente mais limpo e sustentável\, reforçando a i
 mportância dos pequenos gestos na construção de um futuro melhor.As ins
 crições podem ser efetuadas através do QR Code disponível no cartaz of
 icial do evento.A organização apela à participação de todos\, incenti
 vando a comunidade a juntar-se a esta ação de cidadania ambiental e a de
 monstrar que\, juntos\, é possível cuidar melhor do nosso litoral.
X-MICROSOFT-CDO-ALLDAYEVENT:TRUE
DTSTAMP:20260421T053816Z
END:VEVENT
END:VCALENDAR