BEGIN:VCALENDAR
VERSION:2.0
PRODID:Semana da Família 
X-WR-CALNAME:Semana da Família 
X-WR-TIMEZONE:Europe/Lisbon
X-PUBLISHED-TTL:P1W
BEGIN:VTIMEZONE
TZID:Europe/Lisbon
X-LIC-LOCATION:Europe/Lisbon
END:VTIMEZONE
BEGIN:VEVENT
UID:69e71ca6375ae
DTSTART;VALUE=DATE:20260315
SEQUENCE:0
TRANSP:OPAQUE
DTEND;VALUE=DATE:20260316
SUMMARY:Semana da Família 
CLASS:PUBLIC
DESCRIPTION:De 15 a 21 de março\, celebramos a Semana da Família na Pisci
 na de Perafita. Durante esta semana\, um familiar pode participar na mesma
  aula orientada pelo professor\, partilhando momentos de atividade e bem-e
 star em conjunto.&nbsp\;Aproveite esta oportunidade para treinar\, diverti
 r-se e fortalecer laços em família!Informe-se na recepção da piscina.O
 rganização: Matosinhos Sport
X-MICROSOFT-CDO-ALLDAYEVENT:TRUE
DTSTAMP:20260421T064350Z
END:VEVENT
END:VCALENDAR