BEGIN:VCALENDAR
VERSION:2.0
PRODID:Reunião Pública Ordinária de Executivo
X-WR-CALNAME:Reunião Pública Ordinária de Executivo
X-WR-TIMEZONE:Europe/Lisbon
X-PUBLISHED-TTL:P1W
BEGIN:VTIMEZONE
TZID:Europe/Lisbon
X-LIC-LOCATION:Europe/Lisbon
END:VTIMEZONE
BEGIN:VEVENT
UID:69e71e9b9f96a
DTSTART;VALUE=DATE:20260326
SEQUENCE:0
TRANSP:OPAQUE
DTEND;VALUE=DATE:20260327
SUMMARY:Reunião Pública Ordinária de Executivo
CLASS:PUBLIC
DESCRIPTION:Informamos todos os Perafitenses&nbsp\; que terá lugar uma Reu
 nião Pública do Executivo da Junta de Freguesia de Perafita\, na próxim
 a quinta-feira\, dia 26 de março\, pelas 21h30\, no edifício sede da Jun
 ta de Freguesia.A participação da comunidade é importante\, sendo esta 
 uma oportunidade para acompanhar os assuntos de interesse da freguesia e a
 presentar questões ou sugestões.
X-MICROSOFT-CDO-ALLDAYEVENT:TRUE
DTSTAMP:20260421T065211Z
END:VEVENT
END:VCALENDAR